BEGIN:VCALENDAR
VERSION:2.0
PRODID:https://www.casinobern.ch
METHOD:PUBLISH
BEGIN:VEVENT
LOCATION:Casino Bern, Casinoplatz 1, 3011 Bern
SUMMARY:Le sacre du printemps
DESCRIPTION: / Link zur Veranstaltung: https://www.casinobern.ch/programm/le-sacre-du-printemps/
CLASS:PUBLIC
DTSTART:20260625T193000
DTEND:19700101T000000
END:VEVENT
END:VCALENDAR