BEGIN:VCALENDAR
VERSION:2.0
PRODID:https://www.casinobern.ch
METHOD:PUBLISH
BEGIN:VEVENT
LOCATION:Casino Bern, Casinoplatz 1, 3011 Bern
SUMMARY:Fin de Siècle
DESCRIPTION: / Link zur Veranstaltung: https://www.casinobern.ch/programm/fin-de-siecle/
CLASS:PUBLIC
DTSTART:20260614T110000
END:VEVENT
END:VCALENDAR