BEGIN:VCALENDAR
VERSION:2.0
PRODID:https://www.casinobern.ch
METHOD:PUBLISH
BEGIN:VEVENT
LOCATION:Casino Bern, Casinoplatz 1, 3011 Bern
SUMMARY:Öffentliche Probe - Bruckners Vermächtnis
DESCRIPTION:11. Symphoniekonzert / Link zur Veranstaltung: https://www.casinobern.ch/programm/bruckners-vermaechtnis/
CLASS:PUBLIC
DTSTART:20260602T110000
DTEND:20260602T123000
END:VEVENT
END:VCALENDAR