BEGIN:VCALENDAR
VERSION:2.0
PRODID:https://www.casinobern.ch
METHOD:PUBLISH
BEGIN:VEVENT
LOCATION:Casino Bern, Casinoplatz 1, 3011 Bern
SUMMARY:Bilder einer Ausstellung
DESCRIPTION:4. Familienkonzert - Ein Märchenkonzert zu Mussorgskys Bilderwelten / Link zur Veranstaltung: https://www.casinobern.ch/programm/bilder-einer-ausstellung/
CLASS:PUBLIC
DTSTART:20260614T143000
END:VEVENT
END:VCALENDAR